BEGIN:VCALENDAR
VERSION:2.0
PRODID:icalendar-ruby
CALSCALE:GREGORIAN
METHOD:PUBLISH
BEGIN:VEVENT
DTSTAMP:20260420T084403Z
UID:266-2551034@wcc.org.au
DTSTART:20260425T000000Z
DTEND:20260425T030000Z
CLASS:PUBLIC
CREATED:20260414T095605
DESCRIPTION:  \nWomen of Warrandyte Walk\, Sip &amp\; Ride at Fairfield 
 Park Boathouse\nDate: Saturday 25 April 2026 \nTime: 10am - 1pm \nLocati
 on: Fairfield Park Drive\, Fairfield \n \nJoin us for a relaxed and re
 freshing morning by the river at the charming Fairfield Park Boathouse. \
 nMeet at 10am for a gentle 5km return nature walk along the river\, takin
 g in the peaceful surroundings as we make our way to Bellbird Park and bac
 k. \nAfterwards\, unwind over coffee or brunch at the Boathouse from arou
 nd 11:30am\, with the option to finish the morning with a scenic boat ride
 .\nIt’s the perfect opportunity to enjoy great company\, meaningful conv
 ersation\, in one of Melbourne’s most beautiful natural settings. \n \
 nRSVP by April 11: \nLin Mealy - 0423 812 348\nLyndsey Franklin - 0431 
 340 176 \nPlease let us know if you’ll be joining us for:\nThe walk (10
 :00am start)\, Brunch only (from 11:30am)\, The optional boat ride.\nWe
 ’d love to see you there!  
LAST-MODIFIED:20260414T095605
LOCATION:Fairfield Park Boathouse
SUMMARY:WOW Walk\, Sip & Ride
URL;VALUE=URI:https://www.wcc.org.au/events/wow-walk-sip-ride/2026-04-25
ATTACH;FILENAME=Wow-Walk-Sip--Ride.png;FMTTYPE=image/png:https://dq5pwpg1q8
 ru0.cloudfront.net/2026/04/13/23/56/05/50f1a116-28db-4201-9f1f-20a923b0d5d
 9/Wow-Walk-Sip--Ride.png
END:VEVENT
END:VCALENDAR
